BEGIN:VCALENDAR
VERSION:2.0
PRODID:-//Capital Wind Hotel, Kalpitiya - Official Site - ECPv6.15.20//NONSGML v1.0//EN
CALSCALE:GREGORIAN
METHOD:PUBLISH
X-WR-CALNAME:Capital Wind Hotel, Kalpitiya - Official Site
X-ORIGINAL-URL:https://capitalwindkalpitiya.com
X-WR-CALDESC:Events for Capital Wind Hotel, Kalpitiya - Official Site
REFRESH-INTERVAL;VALUE=DURATION:PT1H
X-Robots-Tag:noindex
X-PUBLISHED-TTL:PT1H
BEGIN:VTIMEZONE
TZID:Asia/Kolkata
BEGIN:STANDARD
TZOFFSETFROM:+0530
TZOFFSETTO:+0530
TZNAME:IST
DTSTART:20200101T000000
END:STANDARD
END:VTIMEZONE
BEGIN:VEVENT
DTSTART;VALUE=DATE:20211011
DTEND;VALUE=DATE:20211012
DTSTAMP:20260421T211816
CREATED:20211011T140733Z
LAST-MODIFIED:20211011T140933Z
UID:1993-1633910400-1633996799@capitalwindkalpitiya.com
SUMMARY:New W
DESCRIPTION:KJ
URL:https://capitalwindkalpitiya.com/activities/new-w/
LOCATION:Kalpitiya\, Beach Rd\, Kudawa\, Kalpitiya\, North Western\, 61360\, Sri Lanka
CATEGORIES:Wind Surf
ORGANIZER;CN="Capital Wind":MAILTO:inquiry@capitalwindkalpitiya.com
END:VEVENT
BEGIN:VEVENT
DTSTART;TZID=Asia/Kolkata:20210101T070000
DTEND;TZID=Asia/Kolkata:20220215T180000
DTSTAMP:20260421T211816
CREATED:20201116T092144Z
LAST-MODIFIED:20211011T140932Z
UID:1427-1609484400-1644948000@capitalwindkalpitiya.com
SUMMARY:Dolphin Watching
DESCRIPTION:Kalpitiya is perfect for dolphin and whale watching\, as you do not have to head out too deep into the Ocean: the continental shelf is much closer than reported in admiralty charts\, so much so\, the shelf actually runs near and alongside the shoreline. This translates into being able to see many species of marine life – in just a short boat ride away from the shore. Watching dolphins leap\, swimming alongside you and under your boat – is truly an unforgettable experience. \nThe sea will not be as rough during this period as it is during the monsoon season and it will be easier to spot dolphins given good visibility. The excursions will ideally commence at sunrise\, and last about 2-3 hours.
URL:https://capitalwindkalpitiya.com/activities/taking-your-startup-to-the-next-level/
LOCATION:Kalpitiya\, Beach Rd\, Kudawa\, Kalpitiya\, North Western\, 61360\, Sri Lanka
CATEGORIES:Wind Surf
ATTACH;FMTTYPE=image/jpeg:https://capitalwindkalpitiya.com/wp-content/uploads/2020/11/1-5.jpg
ORGANIZER;CN="Capital Wind":MAILTO:inquiry@capitalwindkalpitiya.com
END:VEVENT
BEGIN:VEVENT
DTSTART;VALUE=DATE:20210101
DTEND;VALUE=DATE:20250101
DTSTAMP:20260421T211816
CREATED:20211011T133903Z
LAST-MODIFIED:20211011T140933Z
UID:1982-1609459200-1735689599@capitalwindkalpitiya.com
SUMMARY:Scuba Diving
DESCRIPTION:For keen scuba divers and snorkelers\, the largest coral reef in Sri Lanka (Bar reef) is only an hour’s boat trip from Kalpitiya. This beautiful reef is home to an incredible variety of tropical fish as well as offering sighting of manta rays\, reef sharks and the occasional turtle. \nBest time for diving and snorkeling is between late November and early May. Due to the southwest monsoon period diving is considered dangerous and impossible during the period of May to November. You can embark on a diving trip with one of the many beachside diving shops. The underwater currents in the seas off Kalpitiya are generally not strong\, but are influenced by small tide changes of two high water and two low water tides…
URL:https://capitalwindkalpitiya.com/activities/scuba-diving/
LOCATION:Kalpitiya\, Beach Rd\, Kudawa\, Kalpitiya\, North Western\, 61360\, Sri Lanka
CATEGORIES:Wind Surf
ATTACH;FMTTYPE=image/jpeg:https://capitalwindkalpitiya.com/wp-content/uploads/2021/10/5-3.jpg
ORGANIZER;CN="Capital Wind":MAILTO:inquiry@capitalwindkalpitiya.com
END:VEVENT
BEGIN:VEVENT
DTSTART;VALUE=DATE:20210101
DTEND;VALUE=DATE:20240217
DTSTAMP:20260421T211816
CREATED:20211011T133641Z
LAST-MODIFIED:20211011T140933Z
UID:1979-1609459200-1708127999@capitalwindkalpitiya.com
SUMMARY:Lagoon Tour
DESCRIPTION:Your boat ride will take you across the pristine waters of the Lagoon in Kalpitiya towards the sand dunes and Salt Pans in a distance. The little fishing villages and local community living on the border of the Lagoon and the stretch between the lagoon and the mighty ocean will let you see the hard work the locals put in to earn their livelihood from the locally available natural resources. From small fishermen to the large scale fishermen share the same space in the lagoon. Shrimp farms which are a booming business in the Lagoon area of Kalpitiya can be observed in a distance. \nFor the Nature lovers young and old the time spent on the boat will give you a delightful surprise of the Marine life in the Lagoon. One can have a closer look at the diversity of Flora\, Fauna\, and birds endemic and common creatures to the area that make the Lagoon their habitat.
URL:https://capitalwindkalpitiya.com/activities/lagoon-tour/
LOCATION:Kalpitiya\, Beach Rd\, Kudawa\, Kalpitiya\, North Western\, 61360\, Sri Lanka
CATEGORIES:Wind Surf
ATTACH;FMTTYPE=image/jpeg:https://capitalwindkalpitiya.com/wp-content/uploads/2021/10/4-1.jpg
ORGANIZER;CN="Capital Wind":MAILTO:inquiry@capitalwindkalpitiya.com
END:VEVENT
BEGIN:VEVENT
DTSTART;VALUE=DATE:20210101
DTEND;VALUE=DATE:20240217
DTSTAMP:20260421T211816
CREATED:20201116T092053Z
LAST-MODIFIED:20211011T140933Z
UID:1426-1609459200-1708127999@capitalwindkalpitiya.com
SUMMARY:Snorkeling
DESCRIPTION:For keen scuba divers and snorkelers\, the largest coral reef in Sri Lanka (Bar reef) is only an hour’s boat trip from Kalpitiya. This beautiful reef is home to an incredible variety of tropical fish as well as offering sighting of manta rays\, reef sharks and the occasional turtle. \nBest time for diving and snorkeling is between late November and early May. Due to the southwest monsoon period diving is considered dangerous and impossible during the period of May to November. You can embark on a diving trip with one of the many beachside diving shops. The underwater currents in the seas off Kalpitiya are generally not strong\, but are influenced by small tide changes of two high water and two low water tides…
URL:https://capitalwindkalpitiya.com/activities/the-new-startup-is-on-the-way/
LOCATION:Kalpitiya\, Beach Rd\, Kudawa\, Kalpitiya\, North Western\, 61360\, Sri Lanka
CATEGORIES:Wind Surf
ATTACH;FMTTYPE=image/jpeg:https://capitalwindkalpitiya.com/wp-content/uploads/2020/11/6-4.jpg
ORGANIZER;CN="Capital Wind":MAILTO:inquiry@capitalwindkalpitiya.com
END:VEVENT
BEGIN:VEVENT
DTSTART;VALUE=DATE:20210101
DTEND;VALUE=DATE:20250101
DTSTAMP:20260421T211816
CREATED:20201116T092002Z
LAST-MODIFIED:20211011T140933Z
UID:1425-1609459200-1735689599@capitalwindkalpitiya.com
SUMMARY:Wilpattu National Park
DESCRIPTION:Wilpattu National Park (Willu-pattu; Land of Lakes) is a park located on the island of Sri Lanka. The unique feature of this park is the existence of “Willus” (Natural lakes) – Natural\, sand-rimmed water basins or depressions that fill with rainwater. Located in the Northwest coast lowland dry zone of Sri Lanka. The park is located 30 km west Anuradhapura and located 26 km north of Puttalam (approximately 180 km north of Colombo). \nThe park is 1\,317 square kilometers (131\, 693 hectares) and ranges from 0 to 152 meters above sea level. Nearly one hundred and six lakes (Willu) and tanks are found spread throughout Wilpattu. Wilpattu is the largest and one of the oldest National Parks in Sri Lanka. Wilpattu is among the top national parks world-renowned for its leopard (Panthera pardus kotiya) population.
URL:https://capitalwindkalpitiya.com/activities/consulting-business-credit-building/
LOCATION:Wilpattuwa\, Wilpattu National Park\, Mannar\, 41000\, Sri Lanka
CATEGORIES:Wind Surf
ATTACH;FMTTYPE=image/jpeg:https://capitalwindkalpitiya.com/wp-content/uploads/2020/11/3-3.jpg
ORGANIZER;CN="Capital Wind":MAILTO:inquiry@capitalwindkalpitiya.com
END:VEVENT
BEGIN:VEVENT
DTSTART;VALUE=DATE:20210101
DTEND;VALUE=DATE:20250101
DTSTAMP:20260421T211816
CREATED:20201116T091542Z
LAST-MODIFIED:20211011T140933Z
UID:1417-1609459200-1735689599@capitalwindkalpitiya.com
SUMMARY:Kite Surfing
DESCRIPTION:Kalpitiya Lagoon has long been considered the top kitesurfing destination in Sri Lanka thanks to its perfectly reliable wind season and near constant stream of 25+ knots. Plenty of pro riders choose the lagoon as a space to train\, sometimes even treating the local kite crew to exclusive pro coaching camps. \nThe launch spot is located on the wide sandbar which separates the lagoon from the Indian Ocean. This is the opposite side to where you’ll find the kite camps and schools\, so you’ll need to take a quick tuk-tuk ride over (5-15 minutes\, depending on which school you’re coming from). \nThe flat water lagoon comfortably holds 40-45 kites\, after which point it starts to feel a wee bit crowded. Thankfully\, when it gets to that stage all you need to do is kite to the edge of the lagoon\, pull in that bar\, and pop hard enough to send yourself flying over to the ocean side of the sandbar- where there’s always plenty of space.
URL:https://capitalwindkalpitiya.com/activities/small-business-saturday-workshop/
LOCATION:Kalpitiya\, Beach Rd\, Kudawa\, Kalpitiya\, North Western\, 61360\, Sri Lanka
CATEGORIES:Wind Surf
ATTACH;FMTTYPE=image/jpeg:https://capitalwindkalpitiya.com/wp-content/uploads/2020/11/2-3.jpg
ORGANIZER;CN="Capital Wind":MAILTO:inquiry@capitalwindkalpitiya.com
END:VEVENT
END:VCALENDAR